BEGIN:VCALENDAR
VERSION:2.0
PRODID:-//jEvents 2.0 for Joomla//EN
CALSCALE:GREGORIAN
METHOD:PUBLISH
BEGIN:VTIMEZONE
TZID:America/Chicago
END:VTIMEZONE
BEGIN:VEVENT
UID:4de5fb1d6866fa3cfdc7b8b753825109
CATEGORIES:Meetings
CREATED:20150409T141603
SUMMARY:Board of Aldermen Meeting
LOCATION:: Oxford Conference Center Auditorium
DESCRIPTION:
CONTACT:Ashley Atkinson, City Clerk, 662-236-1310
X-EXTRAINFO:Agenda: http://www.oxfordms.net/board-of-aldermen-agenda (http://www.oxford
 ms.net/board-of-aldermen-agenda)
DTSTAMP:20260422T085232
DTSTART;TZID=America/Chicago:20230221T170000
SEQUENCE:0
RRULE:FREQ=MONTHLY;UNTIL=20320422T000000Z;INTERVAL=1;BYDAY=+1TU,+3TU
TRANSP:OPAQUE
END:VEVENT
BEGIN:VEVENT
UID:4de5fb1d6866fa3cfdc7b8b753825109
CATEGORIES:Meetings
CREATED:20150409T141603
SUMMARY:Board of Aldermen Meeting
LOCATION:: Oxford Conference Center Auditorium
DESCRIPTION:
URL;VALUE=URI:https://www.oxfordms.net/calendar/icalrepeat.detail/2023/02/21/4959/-/board
 -of-aldermen-meeting?tmpl=component
CONTACT:Ashley Atkinson, City Clerk, 662-236-1310
X-EXTRAINFO:Agenda: http://www.oxfordms.net/board-of-aldermen-agenda (http://www.oxford
 ms.net/board-of-aldermen-agenda)
DTSTAMP:20260422T085232
DTSTART;TZID=America/Chicago:20230221T170000
DTEND;TZID=America/Chicago:20230221T235959
RECURRENCE-ID;TZID=America/Chicago:20230221T170000
SEQUENCE:0
TRANSP:OPAQUE
END:VEVENT
BEGIN:VEVENT
UID:4de5fb1d6866fa3cfdc7b8b753825109
CATEGORIES:Meetings
CREATED:20150409T141603
SUMMARY:Board of Aldermen Meeting
LOCATION:: Courtroom, City Hall
DESCRIPTION:
URL;VALUE=URI:https://www.oxfordms.net/calendar/icalrepeat.detail/2023/07/05/4968/-/board
 -of-aldermen-meeting?tmpl=component
CONTACT:Ashley Atkinson, City Clerk, 662-236-1310
X-EXTRAINFO:Agenda: http://www.oxfordms.net/board-of-aldermen-agenda (http://www.oxford
 ms.net/board-of-aldermen-agenda)
DTSTAMP:20260422T085232
DTSTART;TZID=America/Chicago:20230705T170000
DTEND;TZID=America/Chicago:20230705T235959
RECURRENCE-ID;TZID=America/Chicago:20230704T170000
SEQUENCE:0
TRANSP:OPAQUE
END:VEVENT
END:VCALENDAR