BEGIN:VCALENDAR
VERSION:2.0
PRODID:-//jEvents 2.0 for Joomla//EN
CALSCALE:GREGORIAN
METHOD:PUBLISH
BEGIN:VTIMEZONE
TZID:America/Chicago
END:VTIMEZONE
BEGIN:VEVENT
UID:9539c8fa7b0de16e11d944ff560fe46a
CATEGORIES:Meetings
CREATED:20150504T094001
SUMMARY:Tree Board
LOCATION:Courtroom\, City Hall
DESCRIPTION:
CONTACT:Hume Bryant, Co-Chairman: This email address is being protected from spambots. You need JavaScript enabled to view it.
				document.getElementById('cloak0c39316740789972c6a43bd0dca83259').innerHTML = '';
				var prefix = '&#109;a' + 'i&#108;' + '&#116;o';
				var path = 'hr' + 'ef' + '=';
				var addy0c39316740789972c6a43bd0dca83259 = 'bry&#97;h1207' + '&#64;';
				addy0c39316740789972c6a43bd0dca83259 = addy0c39316740789972c6a43bd0dca83259 + 'y&#97;h&#111;&#111;' + '&#46;' + 'c&#111;m';
				var addy_text0c39316740789972c6a43bd0dca83259 = 'bry&#97;h1207' + '&#64;' + 'y&#97;h&#111;&#111;' + '&#46;' + 'c&#111;m';document.getElementById('cloak0c39316740789972c6a43bd0dca83259').innerHTML += '<a ' + path + '\'' + prefix + ':' + addy0c39316740789972c6a43bd0dca83259 + '\'>'+addy_text0c39316740789972c6a43bd0dca83259+'';
		. Cowan Hunter, Co-Chairman: This email address is being protected from spambots. You need JavaScript enabled to view it.
				document.getElementById('cloak710daa1a09425d8883585295b062a8d1').innerHTML = '';
				var prefix = '&#109;a' + 'i&#108;' + '&#116;o';
				var path = 'hr' + 'ef' + '=';
				var addy710daa1a09425d8883585295b062a8d1 = 'r&#97;ng&#101;r1275' + '&#64;';
				addy710daa1a09425d8883585295b062a8d1 = addy710daa1a09425d8883585295b062a8d1 + 'h&#111;tm&#97;&#105;l' + '&#46;' + 'c&#111;m';
				var addy_text710daa1a09425d8883585295b062a8d1 = 'r&#97;ng&#101;r1275' + '&#64;' + 'h&#111;tm&#97;&#105;l' + '&#46;' + 'c&#111;m';document.getElementById('cloak710daa1a09425d8883585295b062a8d1').innerHTML += '<a ' + path + '\'' + prefix + ':' + addy710daa1a09425d8883585295b062a8d1 + '\'>'+addy_text710daa1a09425d8883585295b062a8d1+'';
		
X-EXTRAINFO:Current agenda: http://www.oxfordms.net/tree-board-agenda (http://www.oxfor
 dms.net/tree-board-agenda)
DTSTAMP:20260419T151943
DTSTART;TZID=America/Chicago:20221103T110000
SEQUENCE:0
TRANSP:OPAQUE
END:VEVENT
END:VCALENDAR