BEGIN:VCALENDAR
VERSION:2.0
PRODID:-//jEvents 2.0 for Joomla//EN
CALSCALE:GREGORIAN
METHOD:PUBLISH
BEGIN:VTIMEZONE
TZID:America/Chicago
END:VTIMEZONE
BEGIN:VEVENT
UID:9539c8fa7b0de16e11d944ff560fe46a
CATEGORIES:Meetings
CREATED:20150504T094001
SUMMARY:Tree Board
LOCATION:Courtroom\, City Hall
DESCRIPTION:
CONTACT:Hume Bryant, Co-Chairman: This email address is being protected from spambots. You need JavaScript enabled to view it.
				document.getElementById('cloak10cebd7f78197d477f516873c28bc409').innerHTML = '';
				var prefix = '&#109;a' + 'i&#108;' + '&#116;o';
				var path = 'hr' + 'ef' + '=';
				var addy10cebd7f78197d477f516873c28bc409 = 'bry&#97;h1207' + '&#64;';
				addy10cebd7f78197d477f516873c28bc409 = addy10cebd7f78197d477f516873c28bc409 + 'y&#97;h&#111;&#111;' + '&#46;' + 'c&#111;m';
				var addy_text10cebd7f78197d477f516873c28bc409 = 'bry&#97;h1207' + '&#64;' + 'y&#97;h&#111;&#111;' + '&#46;' + 'c&#111;m';document.getElementById('cloak10cebd7f78197d477f516873c28bc409').innerHTML += '<a ' + path + '\'' + prefix + ':' + addy10cebd7f78197d477f516873c28bc409 + '\'>'+addy_text10cebd7f78197d477f516873c28bc409+'';
		. Cowan Hunter, Co-Chairman: This email address is being protected from spambots. You need JavaScript enabled to view it.
				document.getElementById('cloak954d7e90a44e961004bc614ed4e17c60').innerHTML = '';
				var prefix = '&#109;a' + 'i&#108;' + '&#116;o';
				var path = 'hr' + 'ef' + '=';
				var addy954d7e90a44e961004bc614ed4e17c60 = 'r&#97;ng&#101;r1275' + '&#64;';
				addy954d7e90a44e961004bc614ed4e17c60 = addy954d7e90a44e961004bc614ed4e17c60 + 'h&#111;tm&#97;&#105;l' + '&#46;' + 'c&#111;m';
				var addy_text954d7e90a44e961004bc614ed4e17c60 = 'r&#97;ng&#101;r1275' + '&#64;' + 'h&#111;tm&#97;&#105;l' + '&#46;' + 'c&#111;m';document.getElementById('cloak954d7e90a44e961004bc614ed4e17c60').innerHTML += '<a ' + path + '\'' + prefix + ':' + addy954d7e90a44e961004bc614ed4e17c60 + '\'>'+addy_text954d7e90a44e961004bc614ed4e17c60+'';
		
X-EXTRAINFO:Current agenda: http://www.oxfordms.net/tree-board-agenda (http://www.oxfor
 dms.net/tree-board-agenda)
DTSTAMP:20260419T134215
DTSTART;TZID=America/Chicago:20221006T110000
SEQUENCE:0
TRANSP:OPAQUE
END:VEVENT
END:VCALENDAR