BEGIN:VCALENDAR
VERSION:2.0
PRODID:-//jEvents 2.0 for Joomla//EN
CALSCALE:GREGORIAN
METHOD:PUBLISH
BEGIN:VTIMEZONE
TZID:America/Chicago
END:VTIMEZONE
BEGIN:VEVENT
UID:9539c8fa7b0de16e11d944ff560fe46a
CATEGORIES:Meetings
CREATED:20150504T094001
SUMMARY:Tree Board
LOCATION:Courtroom\, City Hall
DESCRIPTION:
CONTACT:Hume Bryant, Co-Chairman: This email address is being protected from spambots. You need JavaScript enabled to view it.
				document.getElementById('cloak7713ca04009568c00249d1e5a70e39b6').innerHTML = '';
				var prefix = '&#109;a' + 'i&#108;' + '&#116;o';
				var path = 'hr' + 'ef' + '=';
				var addy7713ca04009568c00249d1e5a70e39b6 = 'bry&#97;h1207' + '&#64;';
				addy7713ca04009568c00249d1e5a70e39b6 = addy7713ca04009568c00249d1e5a70e39b6 + 'y&#97;h&#111;&#111;' + '&#46;' + 'c&#111;m';
				var addy_text7713ca04009568c00249d1e5a70e39b6 = 'bry&#97;h1207' + '&#64;' + 'y&#97;h&#111;&#111;' + '&#46;' + 'c&#111;m';document.getElementById('cloak7713ca04009568c00249d1e5a70e39b6').innerHTML += '<a ' + path + '\'' + prefix + ':' + addy7713ca04009568c00249d1e5a70e39b6 + '\'>'+addy_text7713ca04009568c00249d1e5a70e39b6+'';
		. Cowan Hunter, Co-Chairman: This email address is being protected from spambots. You need JavaScript enabled to view it.
				document.getElementById('cloake830e45873c926cf0333a903d32efe55').innerHTML = '';
				var prefix = '&#109;a' + 'i&#108;' + '&#116;o';
				var path = 'hr' + 'ef' + '=';
				var addye830e45873c926cf0333a903d32efe55 = 'r&#97;ng&#101;r1275' + '&#64;';
				addye830e45873c926cf0333a903d32efe55 = addye830e45873c926cf0333a903d32efe55 + 'h&#111;tm&#97;&#105;l' + '&#46;' + 'c&#111;m';
				var addy_texte830e45873c926cf0333a903d32efe55 = 'r&#97;ng&#101;r1275' + '&#64;' + 'h&#111;tm&#97;&#105;l' + '&#46;' + 'c&#111;m';document.getElementById('cloake830e45873c926cf0333a903d32efe55').innerHTML += '<a ' + path + '\'' + prefix + ':' + addye830e45873c926cf0333a903d32efe55 + '\'>'+addy_texte830e45873c926cf0333a903d32efe55+'';
		
X-EXTRAINFO:Current agenda: http://www.oxfordms.net/tree-board-agenda (http://www.oxfor
 dms.net/tree-board-agenda)
DTSTAMP:20260419T120014
DTSTART;TZID=America/Chicago:20220901T110000
SEQUENCE:0
TRANSP:OPAQUE
END:VEVENT
END:VCALENDAR