BEGIN:VCALENDAR
VERSION:2.0
PRODID:-//jEvents 2.0 for Joomla//EN
CALSCALE:GREGORIAN
METHOD:PUBLISH
BEGIN:VTIMEZONE
TZID:America/Chicago
BEGIN:STANDARD
DTSTART:20191103T010000
RDATE:20200308T030000
TZOFFSETFROM:-0500
TZOFFSETTO:-0600
TZNAME:America/Chicago CST
END:STANDARD
BEGIN:STANDARD
DTSTART:20201101T010000
RDATE:20210314T030000
TZOFFSETFROM:-0500
TZOFFSETTO:-0600
TZNAME:America/Chicago CST
END:STANDARD
BEGIN:DAYLIGHT
DTSTART:20190323T170000
RDATE:20191103T010000
TZOFFSETFROM:-0600
TZOFFSETTO:-0500
TZNAME:America/Chicago CDT
END:DAYLIGHT
BEGIN:DAYLIGHT
DTSTART:20200308T030000
RDATE:20201101T010000
TZOFFSETFROM:-0600
TZOFFSETTO:-0500
TZNAME:America/Chicago CDT
END:DAYLIGHT
END:VTIMEZONE
BEGIN:VEVENT
UID:94e434d44c2309eaee3688628a5e23c6
CATEGORIES:Meetings
CREATED:20170109T112354
SUMMARY:Pathways Commission
LOCATION:The Internet
DESCRIPTION:
CONTACT:Kate Kellum, Chair: This email address is being protected from spambots. You need JavaScript enabled to view it.
				document.getElementById('cloak2797f35b954ed86a9ecff8f8a8882cf5').innerHTML = '';
				var prefix = '&#109;a' + 'i&#108;' + '&#116;o';
				var path = 'hr' + 'ef' + '=';
				var addy2797f35b954ed86a9ecff8f8a8882cf5 = 'k&#97;t&#101;.k&#101;ll&#117;m' + '&#64;';
				addy2797f35b954ed86a9ecff8f8a8882cf5 = addy2797f35b954ed86a9ecff8f8a8882cf5 + 'gm&#97;&#105;l' + '&#46;' + 'c&#111;m';
				var addy_text2797f35b954ed86a9ecff8f8a8882cf5 = 'k&#97;t&#101;.k&#101;ll&#117;m' + '&#64;' + 'gm&#97;&#105;l' + '&#46;' + 'c&#111;m';document.getElementById('cloak2797f35b954ed86a9ecff8f8a8882cf5').innerHTML += '<a ' + path + '\'' + prefix + ':' + addy2797f35b954ed86a9ecff8f8a8882cf5 + '\'>'+addy_text2797f35b954ed86a9ecff8f8a8882cf5+'';
		
X-EXTRAINFO:Agenda: http://www.oxfordms.net/pathways-commission-agenda (http://www.oxfo
 rdms.net/pathways-commission-agenda)
DTSTAMP:20260421T090915
DTSTART;TZID=America/Chicago:20200323T170000
SEQUENCE:0
RRULE:FREQ=MONTHLY;UNTIL=20300124T000000Z;INTERVAL=1;BYDAY=+4MO
TRANSP:OPAQUE
END:VEVENT
BEGIN:VEVENT
UID:94e434d44c2309eaee3688628a5e23c6
CATEGORIES:Meetings
CREATED:20170109T112354
SUMMARY:Pathways Commission
LOCATION:The Internet
DESCRIPTION:
URL;VALUE=URI:https://www.oxfordms.net/calendar/icalrepeat.detail/2020/03/23/3691/-/pathw
 ays-commission?tmpl=component
CONTACT:Kate Kellum, Chair: This email address is being protected from spambots. You need JavaScript enabled to view it.
				document.getElementById('cloakd2a72cd9377ef1d49a32d612e0e77f84').innerHTML = '';
				var prefix = '&#109;a' + 'i&#108;' + '&#116;o';
				var path = 'hr' + 'ef' + '=';
				var addyd2a72cd9377ef1d49a32d612e0e77f84 = 'k&#97;t&#101;.k&#101;ll&#117;m' + '&#64;';
				addyd2a72cd9377ef1d49a32d612e0e77f84 = addyd2a72cd9377ef1d49a32d612e0e77f84 + 'gm&#97;&#105;l' + '&#46;' + 'c&#111;m';
				var addy_textd2a72cd9377ef1d49a32d612e0e77f84 = 'k&#97;t&#101;.k&#101;ll&#117;m' + '&#64;' + 'gm&#97;&#105;l' + '&#46;' + 'c&#111;m';document.getElementById('cloakd2a72cd9377ef1d49a32d612e0e77f84').innerHTML += '<a ' + path + '\'' + prefix + ':' + addyd2a72cd9377ef1d49a32d612e0e77f84 + '\'>'+addy_textd2a72cd9377ef1d49a32d612e0e77f84+'';
		
X-EXTRAINFO:Agenda: http://www.oxfordms.net/pathways-commission-agenda (http://www.oxfo
 rdms.net/pathways-commission-agenda)
DTSTAMP:20260421T090915
DTSTART;TZID=America/Chicago:20200323T170000
DTEND;TZID=America/Chicago:20200323T235959
RECURRENCE-ID;TZID=America/Chicago:20200323T170000
SEQUENCE:0
TRANSP:OPAQUE
END:VEVENT
BEGIN:VEVENT
UID:94e434d44c2309eaee3688628a5e23c6
CATEGORIES:Meetings
CREATED:20170109T112354
SUMMARY:Pathways Commission - Canceled
LOCATION:City Hall
DESCRIPTION:
URL;VALUE=URI:https://www.oxfordms.net/calendar/icalrepeat.detail/2020/12/28/3700/-/pathw
 ays-commission-canceled?tmpl=component
CONTACT:Kate Kellum, Chair: This email address is being protected from spambots. You need JavaScript enabled to view it.
				document.getElementById('cloak4c575459f0b6de55534e051febdb924f').innerHTML = '';
				var prefix = '&#109;a' + 'i&#108;' + '&#116;o';
				var path = 'hr' + 'ef' + '=';
				var addy4c575459f0b6de55534e051febdb924f = 'k&#97;t&#101;.k&#101;ll&#117;m' + '&#64;';
				addy4c575459f0b6de55534e051febdb924f = addy4c575459f0b6de55534e051febdb924f + 'gm&#97;&#105;l' + '&#46;' + 'c&#111;m';
				var addy_text4c575459f0b6de55534e051febdb924f = 'k&#97;t&#101;.k&#101;ll&#117;m' + '&#64;' + 'gm&#97;&#105;l' + '&#46;' + 'c&#111;m';document.getElementById('cloak4c575459f0b6de55534e051febdb924f').innerHTML += '<a ' + path + '\'' + prefix + ':' + addy4c575459f0b6de55534e051febdb924f + '\'>'+addy_text4c575459f0b6de55534e051febdb924f+'';
		
X-EXTRAINFO:Agenda: http://www.oxfordms.net/pathways-commission-agenda (http://www.oxfo
 rdms.net/pathways-commission-agenda)
DTSTAMP:20260421T090915
DTSTART;TZID=America/Chicago:20201228T170000
DTEND;TZID=America/Chicago:20201228T235959
RECURRENCE-ID;TZID=America/Chicago:20201228T170000
SEQUENCE:0
TRANSP:OPAQUE
END:VEVENT
BEGIN:VEVENT
UID:94e434d44c2309eaee3688628a5e23c6
CATEGORIES:Meetings
CREATED:20170109T112354
SUMMARY:Pathways Commission - Canceled
LOCATION:City Hall
DESCRIPTION:
URL;VALUE=URI:https://www.oxfordms.net/calendar/icalrepeat.detail/2020/11/23/3699/-/pathw
 ays-commission-canceled?tmpl=component
CONTACT:Kate Kellum, Chair: This email address is being protected from spambots. You need JavaScript enabled to view it.
				document.getElementById('cloak5a38df5060c7e6be44eaf6d51ce1d0f9').innerHTML = '';
				var prefix = '&#109;a' + 'i&#108;' + '&#116;o';
				var path = 'hr' + 'ef' + '=';
				var addy5a38df5060c7e6be44eaf6d51ce1d0f9 = 'k&#97;t&#101;.k&#101;ll&#117;m' + '&#64;';
				addy5a38df5060c7e6be44eaf6d51ce1d0f9 = addy5a38df5060c7e6be44eaf6d51ce1d0f9 + 'gm&#97;&#105;l' + '&#46;' + 'c&#111;m';
				var addy_text5a38df5060c7e6be44eaf6d51ce1d0f9 = 'k&#97;t&#101;.k&#101;ll&#117;m' + '&#64;' + 'gm&#97;&#105;l' + '&#46;' + 'c&#111;m';document.getElementById('cloak5a38df5060c7e6be44eaf6d51ce1d0f9').innerHTML += '<a ' + path + '\'' + prefix + ':' + addy5a38df5060c7e6be44eaf6d51ce1d0f9 + '\'>'+addy_text5a38df5060c7e6be44eaf6d51ce1d0f9+'';
		
X-EXTRAINFO:Agenda: http://www.oxfordms.net/pathways-commission-agenda (http://www.oxfo
 rdms.net/pathways-commission-agenda)
DTSTAMP:20260421T090915
DTSTART;TZID=America/Chicago:20201123T170000
DTEND;TZID=America/Chicago:20201123T235959
RECURRENCE-ID;TZID=America/Chicago:20201123T170000
SEQUENCE:0
TRANSP:OPAQUE
END:VEVENT
BEGIN:VEVENT
UID:94e434d44c2309eaee3688628a5e23c6
CATEGORIES:Meetings
CREATED:20170109T112354
SUMMARY:Pathways Commission - Canceled
LOCATION:City Hall
DESCRIPTION:
URL;VALUE=URI:https://www.oxfordms.net/calendar/icalrepeat.detail/2020/07/27/3695/-/pathw
 ays-commission-canceled?tmpl=component
CONTACT:Kate Kellum, Chair: This email address is being protected from spambots. You need JavaScript enabled to view it.
				document.getElementById('cloakb05ff22e17ffff241fc7d1a590a137ba').innerHTML = '';
				var prefix = '&#109;a' + 'i&#108;' + '&#116;o';
				var path = 'hr' + 'ef' + '=';
				var addyb05ff22e17ffff241fc7d1a590a137ba = 'k&#97;t&#101;.k&#101;ll&#117;m' + '&#64;';
				addyb05ff22e17ffff241fc7d1a590a137ba = addyb05ff22e17ffff241fc7d1a590a137ba + 'gm&#97;&#105;l' + '&#46;' + 'c&#111;m';
				var addy_textb05ff22e17ffff241fc7d1a590a137ba = 'k&#97;t&#101;.k&#101;ll&#117;m' + '&#64;' + 'gm&#97;&#105;l' + '&#46;' + 'c&#111;m';document.getElementById('cloakb05ff22e17ffff241fc7d1a590a137ba').innerHTML += '<a ' + path + '\'' + prefix + ':' + addyb05ff22e17ffff241fc7d1a590a137ba + '\'>'+addy_textb05ff22e17ffff241fc7d1a590a137ba+'';
		
X-EXTRAINFO:Agenda: http://www.oxfordms.net/pathways-commission-agenda (http://www.oxfo
 rdms.net/pathways-commission-agenda)
DTSTAMP:20260421T090915
DTSTART;TZID=America/Chicago:20200727T170000
DTEND;TZID=America/Chicago:20200727T235959
RECURRENCE-ID;TZID=America/Chicago:20200727T170000
SEQUENCE:0
TRANSP:OPAQUE
END:VEVENT
BEGIN:VEVENT
UID:94e434d44c2309eaee3688628a5e23c6
CATEGORIES:Meetings
CREATED:20170109T112354
SUMMARY:Pathways Commission - Canceled
LOCATION:City Hall
DESCRIPTION:
URL;VALUE=URI:https://www.oxfordms.net/calendar/icalrepeat.detail/2021/06/28/3706/-/pathw
 ays-commission-canceled?tmpl=component
CONTACT:Kate Kellum, Chair: This email address is being protected from spambots. You need JavaScript enabled to view it.
				document.getElementById('cloak6e6e89cf1ae7a7c01873488fbedd7119').innerHTML = '';
				var prefix = '&#109;a' + 'i&#108;' + '&#116;o';
				var path = 'hr' + 'ef' + '=';
				var addy6e6e89cf1ae7a7c01873488fbedd7119 = 'k&#97;t&#101;.k&#101;ll&#117;m' + '&#64;';
				addy6e6e89cf1ae7a7c01873488fbedd7119 = addy6e6e89cf1ae7a7c01873488fbedd7119 + 'gm&#97;&#105;l' + '&#46;' + 'c&#111;m';
				var addy_text6e6e89cf1ae7a7c01873488fbedd7119 = 'k&#97;t&#101;.k&#101;ll&#117;m' + '&#64;' + 'gm&#97;&#105;l' + '&#46;' + 'c&#111;m';document.getElementById('cloak6e6e89cf1ae7a7c01873488fbedd7119').innerHTML += '<a ' + path + '\'' + prefix + ':' + addy6e6e89cf1ae7a7c01873488fbedd7119 + '\'>'+addy_text6e6e89cf1ae7a7c01873488fbedd7119+'';
		
X-EXTRAINFO:Agenda: http://www.oxfordms.net/pathways-commission-agenda (http://www.oxfo
 rdms.net/pathways-commission-agenda)
DTSTAMP:20260421T090915
DTSTART;TZID=America/Chicago:20210628T170000
DTEND;TZID=America/Chicago:20210628T235959
RECURRENCE-ID;TZID=America/Chicago:20210628T170000
SEQUENCE:0
TRANSP:OPAQUE
END:VEVENT
BEGIN:VEVENT
UID:94e434d44c2309eaee3688628a5e23c6
CATEGORIES:Meetings
CREATED:20170109T112354
SUMMARY:Pathways Commission - Canceled
LOCATION:City Hall
DESCRIPTION:
URL;VALUE=URI:https://www.oxfordms.net/calendar/icalrepeat.detail/2021/07/26/3707/-/pathw
 ays-commission-canceled?tmpl=component
CONTACT:Kate Kellum, Chair: This email address is being protected from spambots. You need JavaScript enabled to view it.
				document.getElementById('cloakb3cf3782b18dc8255fbe5a0ffe6179c7').innerHTML = '';
				var prefix = '&#109;a' + 'i&#108;' + '&#116;o';
				var path = 'hr' + 'ef' + '=';
				var addyb3cf3782b18dc8255fbe5a0ffe6179c7 = 'k&#97;t&#101;.k&#101;ll&#117;m' + '&#64;';
				addyb3cf3782b18dc8255fbe5a0ffe6179c7 = addyb3cf3782b18dc8255fbe5a0ffe6179c7 + 'gm&#97;&#105;l' + '&#46;' + 'c&#111;m';
				var addy_textb3cf3782b18dc8255fbe5a0ffe6179c7 = 'k&#97;t&#101;.k&#101;ll&#117;m' + '&#64;' + 'gm&#97;&#105;l' + '&#46;' + 'c&#111;m';document.getElementById('cloakb3cf3782b18dc8255fbe5a0ffe6179c7').innerHTML += '<a ' + path + '\'' + prefix + ':' + addyb3cf3782b18dc8255fbe5a0ffe6179c7 + '\'>'+addy_textb3cf3782b18dc8255fbe5a0ffe6179c7+'';
		
X-EXTRAINFO:Agenda: http://www.oxfordms.net/pathways-commission-agenda (http://www.oxfo
 rdms.net/pathways-commission-agenda)
DTSTAMP:20260421T090915
DTSTART;TZID=America/Chicago:20210726T170000
DTEND;TZID=America/Chicago:20210726T235959
RECURRENCE-ID;TZID=America/Chicago:20210726T170000
SEQUENCE:0
TRANSP:OPAQUE
END:VEVENT
BEGIN:VEVENT
UID:94e434d44c2309eaee3688628a5e23c6
CATEGORIES:Meetings
CREATED:20170109T112354
SUMMARY:Pathways Commission - Canceled
LOCATION:City Hall
DESCRIPTION:
URL;VALUE=URI:https://www.oxfordms.net/calendar/icalrepeat.detail/2022/12/26/3724/-/pathw
 ays-commission-canceled?tmpl=component
CONTACT:Don Feitel, Chair: This email address is being protected from spambots. You need JavaScript enabled to view it.
				document.getElementById('cloak686e0ef0ed2aacaf6cd976850a14aa9d').innerHTML = '';
				var prefix = '&#109;a' + 'i&#108;' + '&#116;o';
				var path = 'hr' + 'ef' + '=';
				var addy686e0ef0ed2aacaf6cd976850a14aa9d = 'df&#101;&#105;t&#101;l' + '&#64;';
				addy686e0ef0ed2aacaf6cd976850a14aa9d = addy686e0ef0ed2aacaf6cd976850a14aa9d + 'gm&#97;&#105;l' + '&#46;' + 'c&#111;m';
				var addy_text686e0ef0ed2aacaf6cd976850a14aa9d = 'df&#101;&#105;t&#101;l' + '&#64;' + 'gm&#97;&#105;l' + '&#46;' + 'c&#111;m';document.getElementById('cloak686e0ef0ed2aacaf6cd976850a14aa9d').innerHTML += '<a ' + path + '\'' + prefix + ':' + addy686e0ef0ed2aacaf6cd976850a14aa9d + '\'>'+addy_text686e0ef0ed2aacaf6cd976850a14aa9d+'';
		
X-EXTRAINFO:Agenda: http://www.oxfordms.net/pathways-commission-agenda (http://www.oxfo
 rdms.net/pathways-commission-agenda)
DTSTAMP:20260421T090915
DTSTART;TZID=America/Chicago:20221226T170000
DTEND;TZID=America/Chicago:20221226T235959
RECURRENCE-ID;TZID=America/Chicago:20221226T170000
SEQUENCE:0
TRANSP:OPAQUE
END:VEVENT
BEGIN:VEVENT
UID:94e434d44c2309eaee3688628a5e23c6
CATEGORIES:Meetings
CREATED:20170109T112354
SUMMARY:Pathways Commission - Canceled
LOCATION:City Hall
DESCRIPTION:
URL;VALUE=URI:https://www.oxfordms.net/calendar/icalrepeat.detail/2023/05/22/3729/-/pathw
 ays-commission-canceled?tmpl=component
CONTACT:Don Feitel, Chair: This email address is being protected from spambots. You need JavaScript enabled to view it.
				document.getElementById('cloak75a8f89f5f30e5762d1682df210b5048').innerHTML = '';
				var prefix = '&#109;a' + 'i&#108;' + '&#116;o';
				var path = 'hr' + 'ef' + '=';
				var addy75a8f89f5f30e5762d1682df210b5048 = 'df&#101;&#105;t&#101;l' + '&#64;';
				addy75a8f89f5f30e5762d1682df210b5048 = addy75a8f89f5f30e5762d1682df210b5048 + 'gm&#97;&#105;l' + '&#46;' + 'c&#111;m';
				var addy_text75a8f89f5f30e5762d1682df210b5048 = 'df&#101;&#105;t&#101;l' + '&#64;' + 'gm&#97;&#105;l' + '&#46;' + 'c&#111;m';document.getElementById('cloak75a8f89f5f30e5762d1682df210b5048').innerHTML += '<a ' + path + '\'' + prefix + ':' + addy75a8f89f5f30e5762d1682df210b5048 + '\'>'+addy_text75a8f89f5f30e5762d1682df210b5048+'';
		
X-EXTRAINFO:Agenda: http://www.oxfordms.net/pathways-commission-agenda (http://www.oxfo
 rdms.net/pathways-commission-agenda)
DTSTAMP:20260421T090915
DTSTART;TZID=America/Chicago:20230522T170000
DTEND;TZID=America/Chicago:20230522T235959
RECURRENCE-ID;TZID=America/Chicago:20230522T170000
SEQUENCE:0
TRANSP:OPAQUE
END:VEVENT
BEGIN:VEVENT
UID:94e434d44c2309eaee3688628a5e23c6
CATEGORIES:Meetings
CREATED:20170109T112354
SUMMARY:Pathways Commission - Canceled
LOCATION:City Hall
DESCRIPTION:
URL;VALUE=URI:https://www.oxfordms.net/calendar/icalrepeat.detail/2023/09/25/3733/-/pathw
 ays-commission-canceled?tmpl=component
CONTACT:Don Feitel, Chair: This email address is being protected from spambots. You need JavaScript enabled to view it.
				document.getElementById('cloakdc90ded213dc1e59d4ae72478f9922a2').innerHTML = '';
				var prefix = '&#109;a' + 'i&#108;' + '&#116;o';
				var path = 'hr' + 'ef' + '=';
				var addydc90ded213dc1e59d4ae72478f9922a2 = 'df&#101;&#105;t&#101;l' + '&#64;';
				addydc90ded213dc1e59d4ae72478f9922a2 = addydc90ded213dc1e59d4ae72478f9922a2 + 'gm&#97;&#105;l' + '&#46;' + 'c&#111;m';
				var addy_textdc90ded213dc1e59d4ae72478f9922a2 = 'df&#101;&#105;t&#101;l' + '&#64;' + 'gm&#97;&#105;l' + '&#46;' + 'c&#111;m';document.getElementById('cloakdc90ded213dc1e59d4ae72478f9922a2').innerHTML += '<a ' + path + '\'' + prefix + ':' + addydc90ded213dc1e59d4ae72478f9922a2 + '\'>'+addy_textdc90ded213dc1e59d4ae72478f9922a2+'';
		
X-EXTRAINFO:Agenda: http://www.oxfordms.net/pathways-commission-agenda (http://www.oxfo
 rdms.net/pathways-commission-agenda)
DTSTAMP:20260421T090915
DTSTART;TZID=America/Chicago:20230925T170000
DTEND;TZID=America/Chicago:20230925T235959
RECURRENCE-ID;TZID=America/Chicago:20230925T170000
SEQUENCE:0
TRANSP:OPAQUE
END:VEVENT
BEGIN:VEVENT
UID:94e434d44c2309eaee3688628a5e23c6
CATEGORIES:Meetings
CREATED:20170109T112354
SUMMARY:Pathways Commission - Canceled
LOCATION:City Hall
DESCRIPTION:
URL;VALUE=URI:https://www.oxfordms.net/calendar/icalrepeat.detail/2024/02/26/3738/-/pathw
 ays-commission-canceled?tmpl=component
CONTACT:Don Feitel, Chair: This email address is being protected from spambots. You need JavaScript enabled to view it.
				document.getElementById('cloak4209748304afa3b67cf3253d1d538dd1').innerHTML = '';
				var prefix = '&#109;a' + 'i&#108;' + '&#116;o';
				var path = 'hr' + 'ef' + '=';
				var addy4209748304afa3b67cf3253d1d538dd1 = 'df&#101;&#105;t&#101;l' + '&#64;';
				addy4209748304afa3b67cf3253d1d538dd1 = addy4209748304afa3b67cf3253d1d538dd1 + 'gm&#97;&#105;l' + '&#46;' + 'c&#111;m';
				var addy_text4209748304afa3b67cf3253d1d538dd1 = 'df&#101;&#105;t&#101;l' + '&#64;' + 'gm&#97;&#105;l' + '&#46;' + 'c&#111;m';document.getElementById('cloak4209748304afa3b67cf3253d1d538dd1').innerHTML += '<a ' + path + '\'' + prefix + ':' + addy4209748304afa3b67cf3253d1d538dd1 + '\'>'+addy_text4209748304afa3b67cf3253d1d538dd1+'';
		
X-EXTRAINFO:Agenda: http://www.oxfordms.net/pathways-commission-agenda (http://www.oxfo
 rdms.net/pathways-commission-agenda)
DTSTAMP:20260421T090915
DTSTART;TZID=America/Chicago:20240226T170000
DTEND;TZID=America/Chicago:20240226T235959
RECURRENCE-ID;TZID=America/Chicago:20240226T170000
SEQUENCE:0
TRANSP:OPAQUE
END:VEVENT
BEGIN:VEVENT
UID:94e434d44c2309eaee3688628a5e23c6
CATEGORIES:Meetings
CREATED:20170109T112354
SUMMARY:Pathways Commission - Canceled
LOCATION:City Hall
DESCRIPTION:
URL;VALUE=URI:https://www.oxfordms.net/calendar/icalrepeat.detail/2025/11/24/3759/-/pathw
 ays-commission-canceled?tmpl=component
CONTACT:Don Feitel, Chair: This email address is being protected from spambots. You need JavaScript enabled to view it.
				document.getElementById('cloakfba173f378651b736f45c52024d17687').innerHTML = '';
				var prefix = '&#109;a' + 'i&#108;' + '&#116;o';
				var path = 'hr' + 'ef' + '=';
				var addyfba173f378651b736f45c52024d17687 = 'df&#101;&#105;t&#101;l' + '&#64;';
				addyfba173f378651b736f45c52024d17687 = addyfba173f378651b736f45c52024d17687 + 'gm&#97;&#105;l' + '&#46;' + 'c&#111;m';
				var addy_textfba173f378651b736f45c52024d17687 = 'df&#101;&#105;t&#101;l' + '&#64;' + 'gm&#97;&#105;l' + '&#46;' + 'c&#111;m';document.getElementById('cloakfba173f378651b736f45c52024d17687').innerHTML += '<a ' + path + '\'' + prefix + ':' + addyfba173f378651b736f45c52024d17687 + '\'>'+addy_textfba173f378651b736f45c52024d17687+'';
		
X-EXTRAINFO:Agenda: http://www.oxfordms.net/pathways-commission-agenda (http://www.oxfo
 rdms.net/pathways-commission-agenda)
DTSTAMP:20260421T090915
DTSTART;TZID=America/Chicago:20251124T170000
DTEND;TZID=America/Chicago:20251124T235959
RECURRENCE-ID;TZID=America/Chicago:20251124T170000
SEQUENCE:0
TRANSP:OPAQUE
END:VEVENT
BEGIN:VEVENT
UID:94e434d44c2309eaee3688628a5e23c6
CATEGORIES:Meetings
CREATED:20170109T112354
SUMMARY:Pathways Commission - Canceled
LOCATION:City Hall
DESCRIPTION:
URL;VALUE=URI:https://www.oxfordms.net/calendar/icalrepeat.detail/2025/12/22/3760/-/pathw
 ays-commission-canceled?tmpl=component
CONTACT:Don Feitel, Chair: This email address is being protected from spambots. You need JavaScript enabled to view it.
				document.getElementById('cloak14520dacf88b0d412330931af489f47f').innerHTML = '';
				var prefix = '&#109;a' + 'i&#108;' + '&#116;o';
				var path = 'hr' + 'ef' + '=';
				var addy14520dacf88b0d412330931af489f47f = 'df&#101;&#105;t&#101;l' + '&#64;';
				addy14520dacf88b0d412330931af489f47f = addy14520dacf88b0d412330931af489f47f + 'gm&#97;&#105;l' + '&#46;' + 'c&#111;m';
				var addy_text14520dacf88b0d412330931af489f47f = 'df&#101;&#105;t&#101;l' + '&#64;' + 'gm&#97;&#105;l' + '&#46;' + 'c&#111;m';document.getElementById('cloak14520dacf88b0d412330931af489f47f').innerHTML += '<a ' + path + '\'' + prefix + ':' + addy14520dacf88b0d412330931af489f47f + '\'>'+addy_text14520dacf88b0d412330931af489f47f+'';
		
X-EXTRAINFO:Agenda: http://www.oxfordms.net/pathways-commission-agenda (http://www.oxfo
 rdms.net/pathways-commission-agenda)
DTSTAMP:20260421T090915
DTSTART;TZID=America/Chicago:20251222T170000
DTEND;TZID=America/Chicago:20251222T235959
RECURRENCE-ID;TZID=America/Chicago:20251222T170000
SEQUENCE:0
TRANSP:OPAQUE
END:VEVENT
BEGIN:VEVENT
UID:94e434d44c2309eaee3688628a5e23c6
CATEGORIES:Meetings
CREATED:20170109T112354
SUMMARY:Pathways Commission - Canceled
LOCATION:City Hall
DESCRIPTION:
URL;VALUE=URI:https://www.oxfordms.net/calendar/icalrepeat.detail/2026/03/23/3763/-/pathw
 ays-commission-canceled?tmpl=component
CONTACT:Don Feitel, Chair: This email address is being protected from spambots. You need JavaScript enabled to view it.
				document.getElementById('cloak48b63dd140313e2b81773b4f9a72d320').innerHTML = '';
				var prefix = '&#109;a' + 'i&#108;' + '&#116;o';
				var path = 'hr' + 'ef' + '=';
				var addy48b63dd140313e2b81773b4f9a72d320 = 'df&#101;&#105;t&#101;l' + '&#64;';
				addy48b63dd140313e2b81773b4f9a72d320 = addy48b63dd140313e2b81773b4f9a72d320 + 'gm&#97;&#105;l' + '&#46;' + 'c&#111;m';
				var addy_text48b63dd140313e2b81773b4f9a72d320 = 'df&#101;&#105;t&#101;l' + '&#64;' + 'gm&#97;&#105;l' + '&#46;' + 'c&#111;m';document.getElementById('cloak48b63dd140313e2b81773b4f9a72d320').innerHTML += '<a ' + path + '\'' + prefix + ':' + addy48b63dd140313e2b81773b4f9a72d320 + '\'>'+addy_text48b63dd140313e2b81773b4f9a72d320+'';
		
X-EXTRAINFO:Agenda: http://www.oxfordms.net/pathways-commission-agenda (http://www.oxfo
 rdms.net/pathways-commission-agenda)
DTSTAMP:20260421T090915
DTSTART;TZID=America/Chicago:20260323T170000
DTEND;TZID=America/Chicago:20260323T235959
RECURRENCE-ID;TZID=America/Chicago:20260323T170000
SEQUENCE:0
TRANSP:OPAQUE
END:VEVENT
END:VCALENDAR