BEGIN:VCALENDAR
VERSION:2.0
PRODID:-//jEvents 2.0 for Joomla//EN
CALSCALE:GREGORIAN
METHOD:PUBLISH
BEGIN:VTIMEZONE
TZID:America/Chicago
END:VTIMEZONE
BEGIN:VEVENT
UID:24c09cea4f48b92424b3f60fc207e398
CATEGORIES:Meetings
CREATED:20260320T164308
SUMMARY:Board of Aldermen Special Meeting
LOCATION:City Hall Courtroom
DESCRIPTION:
CONTACT:Leslie McCormick, 662-236-1310
X-EXTRAINFO:Agenda: http://www.oxfordms.net/board-of-aldermen-agenda (http://www.oxford
 ms.net/board-of-aldermen-agenda)
DTSTAMP:20260419T201436
DTSTART;TZID=America/Chicago:20260323T110000
SEQUENCE:0
TRANSP:OPAQUE
END:VEVENT
END:VCALENDAR