BEGIN:VCALENDAR
VERSION:2.0
PRODID:-//jEvents 2.0 for Joomla//EN
CALSCALE:GREGORIAN
METHOD:PUBLISH
BEGIN:VTIMEZONE
TZID:America/Chicago
END:VTIMEZONE
BEGIN:VEVENT
UID:54e3f246e6a3b90c8f1b672eeb4905f4
CATEGORIES:Meetings
CREATED:20220920T140157
SUMMARY:Park Commission Special Meeting
LOCATION:Park Commission Administrative Office
DESCRIPTION:
CONTACT:Seth Gaines, 662-232-2380
X-EXTRAINFO:Agenda: http://www.oxfordms.net/park-commission-agenda (http://www.oxfordms
 .net/park-commission-agenda)
DTSTAMP:20260419T150207
DTSTART;TZID=America/Chicago:20220921T100000
SEQUENCE:0
TRANSP:OPAQUE
END:VEVENT
END:VCALENDAR