BEGIN:VCALENDAR
VERSION:2.0
PRODID:-//jEvents 2.0 for Joomla//EN
CALSCALE:GREGORIAN
METHOD:PUBLISH
BEGIN:VTIMEZONE
TZID:America/Chicago
END:VTIMEZONE
BEGIN:VEVENT
UID:132f9a6008d3bccf3ffc1a228d3a0752
CATEGORIES:Meetings
CREATED:20220913T173543
SUMMARY:Board of Aldermen Recess Meeting
LOCATION:: City Hall Courtroom
DESCRIPTION:
CONTACT:Ashley Atkinson, City Clerk, 662-236-1310
X-EXTRAINFO:Agenda: http://www.oxfordms.net/board-of-aldermen-agenda (http://www.oxford
 ms.net/board-of-aldermen-agenda)
DTSTAMP:20260419T150036
DTSTART;TZID=America/Chicago:20220914T140000
DTEND;TZID=America/Chicago:20220914T143000
SEQUENCE:0
TRANSP:OPAQUE
END:VEVENT
END:VCALENDAR