BEGIN:VCALENDAR
VERSION:2.0
PRODID:-//jEvents 2.0 for Joomla//EN
CALSCALE:GREGORIAN
METHOD:PUBLISH
BEGIN:VTIMEZONE
TZID:America/Chicago
END:VTIMEZONE
BEGIN:VEVENT
UID:8a124d4669c6cf1ce85c1648c56401fc
CATEGORIES:Meetings
CREATED:20220815T215632
SUMMARY:Park Commission Special Meeting
LOCATION:Park Commission Administrative Office
DESCRIPTION:
CONTACT:Seth Gaines, 662-232-2380
X-EXTRAINFO:Agenda: http://www.oxfordms.net/park-commission-agenda (http://www.oxfordms
 .net/park-commission-agenda)
DTSTAMP:20260421T085427
DTSTART;TZID=America/Chicago:20220816T101500
SEQUENCE:0
TRANSP:OPAQUE
END:VEVENT
END:VCALENDAR