BEGIN:VCALENDAR
VERSION:2.0
PRODID:-//jEvents 2.0 for Joomla//EN
CALSCALE:GREGORIAN
METHOD:PUBLISH
BEGIN:VTIMEZONE
TZID:America/Chicago
END:VTIMEZONE
BEGIN:VEVENT
UID:b843aa4ba09eeb6f0df59d62202661d6
CATEGORIES:Meetings
CREATED:20220801T184119
SUMMARY:Reserve and Trust Fund Committee Regular Meeting
LOCATION:Courtroom\, City Hall
DESCRIPTION:Instructions for joining the meeting on your phone:\n1) Dial 1-404-201-2656
 \n2) Enter the meeting ID: 987 4654 3574\n3) Enter the Passcode: 763592\n
X-ALT-DESC;FMTTYPE=text/html:Instructions for joining the meeting on your phone:<br />1) Dial 1-404-201-
 2656<br />2) Enter the meeting ID: 987 4654 3574<br />3) Enter the Passcode
 : 763592<br />
CONTACT:Ashley Atkinson, City Clerk 662-236-1310
X-EXTRAINFO:Agenda: http://www.oxfordms.net/trust-fund-committee-agenda (http://www.oxf
 ordms.net/trust-fund-committee-agenda)
DTSTAMP:20260420T103937
DTSTART;TZID=America/Chicago:20220802T153000
DTEND;TZID=America/Chicago:20220802T163000
SEQUENCE:0
TRANSP:OPAQUE
END:VEVENT
END:VCALENDAR